BEGIN:VCALENDAR
VERSION:2.0
PRODID:-//MatterMind - ECPv6.15.20//NONSGML v1.0//EN
CALSCALE:GREGORIAN
METHOD:PUBLISH
X-WR-CALNAME:MatterMind
X-ORIGINAL-URL:https://bmicel.profreed.com
X-WR-CALDESC:Events for MatterMind
REFRESH-INTERVAL;VALUE=DURATION:PT1H
X-Robots-Tag:noindex
X-PUBLISHED-TTL:PT1H
BEGIN:VTIMEZONE
TZID:America/Los_Angeles
BEGIN:DAYLIGHT
TZOFFSETFROM:-0800
TZOFFSETTO:-0700
TZNAME:PDT
DTSTART:20250309T100000
END:DAYLIGHT
BEGIN:STANDARD
TZOFFSETFROM:-0700
TZOFFSETTO:-0800
TZNAME:PST
DTSTART:20251102T090000
END:STANDARD
BEGIN:DAYLIGHT
TZOFFSETFROM:-0800
TZOFFSETTO:-0700
TZNAME:PDT
DTSTART:20260308T100000
END:DAYLIGHT
BEGIN:STANDARD
TZOFFSETFROM:-0700
TZOFFSETTO:-0800
TZNAME:PST
DTSTART:20261101T090000
END:STANDARD
BEGIN:DAYLIGHT
TZOFFSETFROM:-0800
TZOFFSETTO:-0700
TZNAME:PDT
DTSTART:20270314T100000
END:DAYLIGHT
BEGIN:STANDARD
TZOFFSETFROM:-0700
TZOFFSETTO:-0800
TZNAME:PST
DTSTART:20271107T090000
END:STANDARD
END:VTIMEZONE
BEGIN:VEVENT
DTSTART;TZID=America/Los_Angeles:20260602T090000
DTEND;TZID=America/Los_Angeles:20260602T110000
DTSTAMP:20260425T055527
CREATED:20260420T040836Z
LAST-MODIFIED:20260420T040836Z
UID:115-1780390800-1780398000@bmicel.profreed.com
SUMMARY:Legal Tech Innovation Webinar
DESCRIPTION:An online event focused on trends in legal technology\, showcasing how AI is transforming law firms. MatterMind could present case studies\, new features\, and best practices for integrating tools like ProLaw and Outlook.
URL:https://bmicel.profreed.com/event/legal-tech-innovation-webinar/
END:VEVENT
BEGIN:VEVENT
DTSTART;TZID=America/Los_Angeles:20260601T100000
DTEND;TZID=America/Los_Angeles:20260601T140000
DTSTAMP:20260425T055527
CREATED:20260420T040157Z
LAST-MODIFIED:20260420T040157Z
UID:111-1780308000-1780322400@bmicel.profreed.com
SUMMARY:AI for Law Firms Workshop
DESCRIPTION:A hands-on workshop where attorneys and staff learn how to use AI tools like MatterMind to automate document management\, improve efficiency\, and reduce errors. This could include live demos\, training sessions\, and Q&A with experts.
URL:https://bmicel.profreed.com/event/ai-for-law-firms-workshop/
END:VEVENT
END:VCALENDAR